BEGIN:VCALENDAR
VERSION:2.0
PRODID:-//butterflying.de - ECPv6.15.20//NONSGML v1.0//EN
CALSCALE:GREGORIAN
METHOD:PUBLISH
X-WR-CALNAME:butterflying.de
X-ORIGINAL-URL:https://butterflying.de
X-WR-CALDESC:Veranstaltungen für butterflying.de
REFRESH-INTERVAL;VALUE=DURATION:PT1H
X-Robots-Tag:noindex
X-PUBLISHED-TTL:PT1H
BEGIN:VTIMEZONE
TZID:UTC
BEGIN:STANDARD
TZOFFSETFROM:+0000
TZOFFSETTO:+0000
TZNAME:UTC
DTSTART:20250101T000000
END:STANDARD
END:VTIMEZONE
BEGIN:VEVENT
DTSTART;TZID=UTC:20260428T193000
DTEND;TZID=UTC:20260428T203000
DTSTAMP:20260421T163650
CREATED:20260306T154427Z
LAST-MODIFIED:20260306T154742Z
UID:9352-1777404600-1777408200@butterflying.de
SUMMARY:Denk-Spiel-Raum: VIA-Stärken Spiel ausprobieren (15€)
DESCRIPTION:Das VIA-Stärken-Spiel ist ein vielseitiges und kraftvolles Tool\, das weit über den einmaligen Einsatz hinausgeht. Ob im (Selbst-)Coaching\, in der Teamentwicklung\, im Rahmen von Team-Workshops oder sogar in Bewerbungsverfahren – diese Methode lässt sich flexibel auf unterschiedliche Fragestellungen und individuelle Situationen übertragen. \nDer Kern bleibt dabei immer gleich: Wie können die fünf identifizierten Charakterstärken im Alltag – beruflich und privat – wirklich gelebt und sichtbar werden? \nOder anders gefragt: Was muss sich in meinem Umfeld verändern\, damit meine Stärken zur Entfaltung kommen?\nDenn wenn das nicht gelingt\, entsteht oft ein Ungleichgewicht – mit der möglichen Folge von Überforderung oder sogar Burnout. \nDas VIA-Stärken Spiel habe ich im Rahmen meiner Ausbildung zur Anwenderin der Positiven Psychologie selbst entwickelt und kann auch käuflich erworben werden: www\,agiles-selbstmanagement.de/via-staerken-spiel/ \n  \n  \nWas ist der Denk-Spiel-Raum von butterflying? \nEs ist mein aktuelles Experiment. Der Denk-Spiel-Raum ist ein Ort für neugierige Menschen\, die Methoden und Spiele rund ums Denken\, Lernen und Zusammenarbeiten ausprobieren möchten. \nIn meinem Raum mit Wohnzimmer-Atmosphäre (bei schönem Wetter auch im Garten) experimentieren wir mit Übungen\, Spielen und Denkexperimenten aus meinem Spielekoffer. Jeder Termin stellt eine andere Methode oder ein Spiel in den Mittelpunkt. \nDer Termin findet ab 2 Personen statt (und wird ggf. nach gemeinsamer Terminabstimmung auch verschoben). Dein Invest beträgt 15 €\, Getränke sind inklusive. Mit einer Bonuskarte sammelst du 5 Stempel und kannst einmal kostenlos teilnehmen.
URL:https://butterflying.de/event/denk-spiel-raum-via-staerken-spiel-ausprobieren/
LOCATION:butterflying.de by Claudia Haußmann\, Bregenzer Str. 36\, Lindau\, Deutschland\, 88131\, Germany
CATEGORIES:Denk-Spiel-Raum
ATTACH;FMTTYPE=image/jpeg:https://butterflying.de/wp-content/uploads/2026/03/VIA-Staerken-scaled.jpg
ORGANIZER;CN="butterflying.de":MAILTO:kontakt@butterflying.de
END:VEVENT
END:VCALENDAR