BEGIN:VCALENDAR
VERSION:2.0
PRODID:-//butterflying.de - ECPv6.15.20//NONSGML v1.0//EN
CALSCALE:GREGORIAN
METHOD:PUBLISH
X-WR-CALNAME:butterflying.de
X-ORIGINAL-URL:https://butterflying.de
X-WR-CALDESC:Veranstaltungen für butterflying.de
REFRESH-INTERVAL;VALUE=DURATION:PT1H
X-Robots-Tag:noindex
X-PUBLISHED-TTL:PT1H
BEGIN:VTIMEZONE
TZID:UTC
BEGIN:STANDARD
TZOFFSETFROM:+0000
TZOFFSETTO:+0000
TZNAME:UTC
DTSTART:20230101T000000
END:STANDARD
END:VTIMEZONE
BEGIN:VEVENT
DTSTART;TZID=UTC:20241023T193000
DTEND;TZID=UTC:20241023T210000
DTSTAMP:20260421T144713
CREATED:20241008T184000Z
LAST-MODIFIED:20241018T154247Z
UID:4965-1729711800-1729717200@butterflying.de
SUMMARY:#DMW Netzwerk Stammtisch: Spielerisch lernen mit Spaß zum Ausprobieren
DESCRIPTION:Die Digital Medien Women vom Quartier Bodensee-Oberschwaben trifft monatlich  im Kapuziner Kreativzentrum in Ravensburg für einen anregenden Impuls und zum freien Netzwerken. Um über aktuelle Themen und über  Herzensprojekte zu sprechen und so Frauen zusammenbringen\, die in der Region etwas bewegen möchten und Empowerment (von Frau zu Frau) einen Raum geben. \nAm Mittwoch\, 23. Oktober 2024 bin ich Impulsgeber mit meinem Herzensthema „Spielerisch lernen mit Spaß“ \nAls begeisterte Spielerin habe ich mein  Hobby zum Beruf gemacht. Ein Spiel ist ein idealer Lern- und Experimentierraum\, um Strategien (neu) auszuprobieren und Verhaltensmuster zu reflektieren. So schließen sich Spiele und Business nicht aus. Beim Spielen entstehen viele positive Emotionen\, wie zum Beispiel Spaß. Probiere es an diesem Abend einfach selbst aus. \n  \nAblauf \nEINLASS:\nab 19:30 Uhr\, Zeit zum Ankommen\, persönliche Begrüßungen und Getränke an der Kapuziner Bar auswählen (gegen Spende) \nIMPULSVORTRAG:\nab 20:00 Uhr\, spannende Vorträge und interaktive Impulse von Frauen für Frauen (Empowerment\, Herzensprojekte und aktuelle Themen) \nFREIES NETZWERKEN\nab 20:30 Uhr\, Zeit für persönliche Gespräche und um neue Kontakte knüpfen zu können
URL:https://butterflying.de/event/dmw-netzwerk-stammtisch-spielerisch-lernen-mit-spass/
LOCATION:Kapuziner Kreativzentrum\, Kapuzinerstraße 27a\, Ravensburg\, 88212
ATTACH;FMTTYPE=image/png:https://butterflying.de/wp-content/uploads/2024/10/Titelbild.png
END:VEVENT
END:VCALENDAR